BEGIN:VCALENDAR
VERSION:2.0
PRODID:-//Department Of Education//2e283aff-7dc1-4c6f-ada3-d24a44c782bd
BEGIN:VTIMEZONE
TZID:Australia/Sydney
TZURL:http://tzurl.org/zoneinfo-outlook/Australia/Sydney
X-LIC-LOCATION:Australia/Sydney
BEGIN:STANDARD
TZOFFSETFROM:+1100
TZOFFSETTO:+1000
TZNAME:AEST
DTSTART:19700405T030000
RRULE:FREQ=YEARLY;BYMONTH=4;BYDAY=1SU
END:STANDARD
BEGIN:DAYLIGHT
TZOFFSETFROM:+1000
TZOFFSETTO:+1100
TZNAME:AEDT
DTSTART:19701004T020000
RRULE:FREQ=YEARLY;BYMONTH=10;BYDAY=1SU
END:DAYLIGHT
END:VTIMEZONE
CALSCALE:GREGORIAN
X-WR-TIMEZONE:Australia/Sydney
BEGIN:VEVENT
DTSTART;VALUE=DATE:20200810
DTEND;VALUE=DATE:20200822
DTSTAMP:20200810T000000Z
UID:56cb5d15-0b8e-4330-8109-916efaad29a5
LOCATION:SSC Blackwattle Bay
SUMMARY;LANGUAGE=en-us:Trial HSC Exams
SEQUENCE:0
DESCRIPTION:Trial HSC Examinations
END:VEVENT
TRANSP:TRANSPARENT
END:VCALENDAR
