BEGIN:VCALENDAR
VERSION:2.0
PRODID:-//Department Of Education//9b2c3334-5f68-407a-ae22-4ed1cbcde379
BEGIN:VTIMEZONE
TZID:Australia/Sydney
TZURL:http://tzurl.org/zoneinfo-outlook/Australia/Sydney
X-LIC-LOCATION:Australia/Sydney
BEGIN:STANDARD
TZOFFSETFROM:+1100
TZOFFSETTO:+1000
TZNAME:AEST
DTSTART:19700405T030000
RRULE:FREQ=YEARLY;BYMONTH=4;BYDAY=1SU
END:STANDARD
BEGIN:DAYLIGHT
TZOFFSETFROM:+1000
TZOFFSETTO:+1100
TZNAME:AEDT
DTSTART:19701004T020000
RRULE:FREQ=YEARLY;BYMONTH=10;BYDAY=1SU
END:DAYLIGHT
END:VTIMEZONE
CALSCALE:GREGORIAN
X-WR-TIMEZONE:Australia/Sydney
BEGIN:VEVENT
DTSTART;TZID=Australia/Sydney:20200305T073000
DTEND;TZID=Australia/Sydney:20200305T090000
DTSTAMP:20200305T000000Z
UID:1db3fd13-9c5a-4d2b-bdb9-a22e3fec0c39
LOCATION:SSC Blackwattle Bay
SUMMARY;LANGUAGE=en-us:International Women's Day Breakfast
SEQUENCE:0
DESCRIPTION:International Women's Day Breakfast
END:VEVENT
TRANSP:TRANSPARENT
END:VCALENDAR
