BEGIN:VCALENDAR
VERSION:2.0
PRODID:-//Department Of Education//d17c7b59-06d8-41ec-82fc-926183eb4147
BEGIN:VTIMEZONE
TZID:Australia/Sydney
TZURL:http://tzurl.org/zoneinfo-outlook/Australia/Sydney
X-LIC-LOCATION:Australia/Sydney
BEGIN:STANDARD
TZOFFSETFROM:+1100
TZOFFSETTO:+1000
TZNAME:AEST
DTSTART:19700405T030000
RRULE:FREQ=YEARLY;BYMONTH=4;BYDAY=1SU
END:STANDARD
BEGIN:DAYLIGHT
TZOFFSETFROM:+1000
TZOFFSETTO:+1100
TZNAME:AEDT
DTSTART:19701004T020000
RRULE:FREQ=YEARLY;BYMONTH=10;BYDAY=1SU
END:DAYLIGHT
END:VTIMEZONE
CALSCALE:GREGORIAN
X-WR-TIMEZONE:Australia/Sydney
BEGIN:VEVENT
DTSTART;VALUE=DATE:20200318
DTEND;VALUE=DATE:20200319
DTSTAMP:20200318T000000Z
UID:4cbd7658-4fae-4ba8-ac09-672c6f12f4b7
LOCATION:SSC Blackwattle Bay
SUMMARY;LANGUAGE=en-us:Diversity Day
SEQUENCE:0
DESCRIPTION:Our annual celebration of student diversity, individuality and talent!
END:VEVENT
TRANSP:TRANSPARENT
END:VCALENDAR
